BEGIN:VCALENDAR
VERSION:2.0
PRODID:-//eventon.com NONSGML v1.0//EN
CALSCALE:GREGORIAN
METHOD:PUBLISH
BEGIN:VEVENT
UID:69e9f56f1677d
DTSTAMP:20260423T103319Z
DTSTART:20260422T203000Z
DTEND:20260422T223000Z
LOCATION:Beck Academic Hall - Gustavus Adolphus College Student Center Drive\,  St. Peter
SUMMARY:Celebration of Creative Inquiry
DESCRIPTION:Curious about the stories behind innovative ideas and discoveri
 es? The Celebration of Creative Inquiry (CCI) is an annual event where stud
 ents from all disciplines share their research\,  creative projects and int
 ernship experiences. More than just presenting final results\,  CCI highlig
 hts the questions students explored\,  the challenges they faced and the[..
 ]\nhttps://mankatolife.com/events/celebration-of-creative-inquiry/
URL:https://mankatolife.com/events/celebration-of-creative-inquiry/
END:VEVENT
END:VCALENDAR