BEGIN:VCALENDAR
VERSION:2.0
PRODID:-//eventon.com NONSGML v1.0//EN
CALSCALE:GREGORIAN
METHOD:PUBLISH
BEGIN:VEVENT
UID:69eb35c52ea24
DTSTAMP:20260424T092005Z
DTSTART:20260429T000000Z
DTEND:20260429T013000Z
LOCATION:Trinity Chapel - Bethany Lutheran College BLC\,  Luther Dr.\,  Mankato
SUMMARY:Bethany Luther College Chamber Orchestra Finale
DESCRIPTION:The orchestra performs its finale concert with special guest\, 
  internationally renowned Norwegian pianist\,  Oda Voltersvik.\nhttps://man
 katolife.com/events/bethany-luther-college-chamber-orchestra-finale/
URL:https://mankatolife.com/events/bethany-luther-college-chamber-orchestra-finale/
END:VEVENT
END:VCALENDAR