BEGIN:VCALENDAR
VERSION:2.0
PRODID:-//eventon.com NONSGML v1.0//EN
CALSCALE:GREGORIAN
METHOD:PUBLISH
BEGIN:VEVENT
UID:69eb33cfb609f
DTSTAMP:20260424T091143Z
DTSTART:20260426T200000Z
DTEND:20260426T210000Z
LOCATION:Bethany Lutheran College - Campus Green 700 Luther Drive
SUMMARY:Bethany Luther College Jazz Band Spring Concert
DESCRIPTION:Bethany Luther College Jazz Band Spring Concert\nhttps://mankat
 olife.com/events/bethany-luther-college-jazz-band-spring-concert/
URL:https://mankatolife.com/events/bethany-luther-college-jazz-band-spring-concert/
END:VEVENT
END:VCALENDAR