BEGIN:VCALENDAR
VERSION:2.0
PRODID:-//eventon.com NONSGML v1.0//EN
CALSCALE:GREGORIAN
METHOD:PUBLISH
BEGIN:VEVENT
UID:69eb355330139
DTSTAMP:20260424T091811Z
DTSTART:20260426T010000Z
DTEND:20260426T045900Z
LOCATION:Oleander Saloon  701 North Riverfront Drive
SUMMARY:Misguided
DESCRIPTION:Misguided\nhttps://mankatolife.com/events/misguided/
URL:https://mankatolife.com/events/misguided/
END:VEVENT
END:VCALENDAR