BEGIN:VCALENDAR
VERSION:2.0
PRODID:-//eventon.com NONSGML v1.0//EN
CALSCALE:GREGORIAN
METHOD:PUBLISH
BEGIN:VEVENT
UID:69eb35b60ef22
DTSTAMP:20260424T091950Z
DTSTART:20260425T000000Z
DTEND:20260425T045900Z
LOCATION:Oleander Saloon  701 North Riverfront Drive
SUMMARY:Murphy Brothers Band
DESCRIPTION:Murphy Brothers Band\nhttps://mankatolife.com/events/murphy-bro
 thers-band/
URL:https://mankatolife.com/events/murphy-brothers-band/
END:VEVENT
END:VCALENDAR