BEGIN:VCALENDAR
VERSION:2.0
PRODID:-//eventon.com NONSGML v1.0//EN
CALSCALE:GREGORIAN
METHOD:PUBLISH
BEGIN:VEVENT
UID:69eb35b5cbd56
DTSTAMP:20260424T091949Z
DTSTART:20260426T013000Z
DTEND:20260426T045900Z
LOCATION:Circle Inn Bar 232 Belgrade Ave\,  North Mankto
SUMMARY:DJ Dougie
DESCRIPTION:DJ Dougie\nhttps://mankatolife.com/events/dj-dougie-2/
URL:https://mankatolife.com/events/dj-dougie-2/
END:VEVENT
END:VCALENDAR