BEGIN:VCALENDAR
VERSION:2.0
PRODID:-//eventon.com NONSGML v1.0//EN
CALSCALE:GREGORIAN
METHOD:PUBLISH
BEGIN:VEVENT
UID:69e9ddb925f1b
DTSTAMP:20260423T085209Z
DTSTART:20260426T010000Z
DTEND:20260426T045900Z
LOCATION:Blue Moon Bar and Grill 300 S Webster St\,  Kasota
SUMMARY:Everett Smithson Band
DESCRIPTION:Everett Smithson Band\nhttps://mankatolife.com/events/everett-s
 mithson-band/
URL:https://mankatolife.com/events/everett-smithson-band/
END:VEVENT
END:VCALENDAR