BEGIN:VCALENDAR
VERSION:2.0
PRODID:-//eventon.com NONSGML v1.0//EN
CALSCALE:GREGORIAN
METHOD:PUBLISH
BEGIN:VEVENT
UID:69e9de81ee749
DTSTAMP:20260423T085529Z
DTSTART:20260426T210000Z
DTEND:20260427T000000Z
LOCATION:Patrick's on 3rd 125 S. 3rd St.\,  St. Peter
SUMMARY:EZ Jazz
DESCRIPTION:EZ Jazz\nhttps://mankatolife.com/events/ez-jazz/
URL:https://mankatolife.com/events/ez-jazz/
END:VEVENT
END:VCALENDAR