BEGIN:VCALENDAR
VERSION:2.0
PRODID:-//eventon.com NONSGML v1.0//EN
CALSCALE:GREGORIAN
METHOD:PUBLISH
BEGIN:VEVENT
UID:69e9ddaa9db09
DTSTAMP:20260423T085154Z
DTSTART:20260425T190000Z
DTEND:20260425T220000Z
LOCATION:Spinners Bar 301 Belgrade Ave.\,  North Mankato
SUMMARY:Steve Boyken
DESCRIPTION:Steve Boyken\nhttps://mankatolife.com/events/steve-boyken-2/
URL:https://mankatolife.com/events/steve-boyken-2/
END:VEVENT
END:VCALENDAR