BEGIN:VCALENDAR
VERSION:2.0
PRODID:-//eventon.com NONSGML v1.0//EN
CALSCALE:GREGORIAN
METHOD:PUBLISH
BEGIN:VEVENT
UID:69e56bd2b1d7c
DTSTAMP:20260419T235706Z
DTSTART:20260424T230000Z
DTEND:20260425T020000Z
LOCATION:Wow! Zone 2030 Adams St\,  Mankato
SUMMARY:Crista Bohlmann
DESCRIPTION:Crista Bohlmann\nhttps://mankatolife.com/events/crista-bohlmann
 -4/
URL:https://mankatolife.com/events/crista-bohlmann-4/
END:VEVENT
END:VCALENDAR