BEGIN:VCALENDAR
VERSION:2.0
PRODID:-//eventon.com NONSGML v1.0//EN
CALSCALE:GREGORIAN
METHOD:PUBLISH
BEGIN:VEVENT
UID:69e6e98087abd
DTSTAMP:20260421T030536Z
DTSTART:20260423T230000Z
DTEND:20260424T010000Z
LOCATION:Chankaska Creek Ranch and Winery 1179 E Pearl St\,  Kasota
SUMMARY:Sourdough 101
DESCRIPTION:Join us for a fun\,  hands-on sourdough workshop at Chankaska C
 reek Ranch! You&#8217;ll dive into the art of making your own sourdough bre
 ad from scratch\,  complete with expert tips and tricks to guide you throug
 h the whole process. You&#8217;ll leave class with dough to bake at home an
 d some of[..]\nhttps://mankatolife.com/events/sourdough-101-2/
URL:https://mankatolife.com/events/sourdough-101-2/
END:VEVENT
END:VCALENDAR