BEGIN:VCALENDAR
VERSION:2.0
PRODID:-//eventon.com NONSGML v1.0//EN
CALSCALE:GREGORIAN
METHOD:PUBLISH
BEGIN:VEVENT
UID:69e9df93e8837
DTSTAMP:20260423T090003Z
DTSTART:20260425T223000Z
DTEND:20260426T013000Z
LOCATION:Indian Island Winery  18018-631st Ave\,  Janesville
SUMMARY:Los T’s
DESCRIPTION:Los T’s\nhttps://mankatolife.com/events/los-ts-2/
URL:https://mankatolife.com/events/los-ts-2/
END:VEVENT
END:VCALENDAR