BEGIN:VCALENDAR
VERSION:2.0
PRODID:-//eventon.com NONSGML v1.0//EN
CALSCALE:GREGORIAN
METHOD:PUBLISH
BEGIN:VEVENT
UID:69e9dec0c9135
DTSTAMP:20260423T085632Z
DTSTART:20260424T230000Z
DTEND:20260425T013000Z
LOCATION:Indian Island Winery  18018-631st Ave\,  Janesville
SUMMARY:On the Cover
DESCRIPTION:On the Cover\nhttps://mankatolife.com/events/on-the-cover-2/
URL:https://mankatolife.com/events/on-the-cover-2/
END:VEVENT
END:VCALENDAR