BEGIN:VCALENDAR
VERSION:2.0
PRODID:-//eventon.com NONSGML v1.0//EN
CALSCALE:GREGORIAN
METHOD:PUBLISH
BEGIN:VEVENT
UID:69e9dec1020de
DTSTAMP:20260423T085633Z
DTSTART:20260421T230000Z
DTEND:20260422T010000Z
LOCATION:Paddlefish Brewing 108 South Minnesota Avenue
SUMMARY:Open Mic Night
DESCRIPTION:We welcome all kinds of performers—musicians\,  poets\,  come
 dians and more! Whether you&#8217;re a seasoned pro or just getting started
 \,  bring your talent\,  and we’ll handle the rest! Look out for the sign
 -up form online or show up at 5:30 p.m. to get yourself on the list.\nhttps
 ://mankatolife.com/events/open-mic-night-6/
URL:https://mankatolife.com/events/open-mic-night-6/
END:VEVENT
END:VCALENDAR