BEGIN:VCALENDAR
VERSION:2.0
PRODID:-//eventon.com NONSGML v1.0//EN
CALSCALE:GREGORIAN
METHOD:PUBLISH
BEGIN:VEVENT
UID:69e6e8a38b51c
DTSTAMP:20260421T030155Z
DTSTART:20260421T233000Z
DTEND:20260422T010000Z
LOCATION:Hearth Space 881 Madison Ave.\,  Mankato\,  MN 56001
SUMMARY:Herbs in the Garden and Yard
DESCRIPTION:Explore the plants (herbs) that grow willingly in our yards\,  
 and learn about a few of the plants that Kara thinks are  &#8220;must have
 s&#8221;  to plant around the home. Registration is required.\nhttps://man
 katolife.com/events/herbs-in-the-garden-and-yard/
URL:https://mankatolife.com/events/herbs-in-the-garden-and-yard/
END:VEVENT
END:VCALENDAR