BEGIN:VCALENDAR
VERSION:2.0
PRODID:-//eventon.com NONSGML v1.0//EN
CALSCALE:GREGORIAN
METHOD:PUBLISH
BEGIN:VEVENT
UID:69e9de7a3d09b
DTSTAMP:20260423T085522Z
DTSTART:20260426T003000Z
DTEND:20260426T045900Z
LOCATION:State Street Theater 1 N State Street\,  New Ulm
SUMMARY:Tom Glynn
DESCRIPTION:Tom Glynn\nhttps://mankatolife.com/events/tom-glynn/
URL:https://mankatolife.com/events/tom-glynn/
END:VEVENT
END:VCALENDAR