BEGIN:VCALENDAR
VERSION:2.0
PRODID:-//eventon.com NONSGML v1.0//EN
CALSCALE:GREGORIAN
METHOD:PUBLISH
BEGIN:VEVENT
UID:69e53dde8376a
DTSTAMP:20260419T204102Z
DTSTART:20260205T000000Z
DTEND:20260205T010000Z
LOCATION:North Mankato Taylor Library 1001 Belgrade Ave.\,  North Mankato
SUMMARY:Writers Group
DESCRIPTION:Bring a piece of writing to share or come for the fun writing p
 rompts. All genres are welcome!\nhttps://mankatolife.com/events/writers-gro
 up/
URL:https://mankatolife.com/events/writers-group/
END:VEVENT
END:VCALENDAR