BEGIN:VCALENDAR
VERSION:2.0
PRODID:-//eventon.com NONSGML v1.0//EN
CALSCALE:GREGORIAN
METHOD:PUBLISH
BEGIN:VEVENT
UID:69e9dcb58e4ce
DTSTAMP:20260423T084749Z
DTSTART:20260106T000000Z
DTEND:20260106T020000Z
LOCATION:Prairie Saloon &amp; Grill 140 N Webster St.\,  Kasota
SUMMARY:Bingo
DESCRIPTION:Bingo\nhttps://mankatolife.com/events/bingo/
URL:https://mankatolife.com/events/bingo/
END:VEVENT
END:VCALENDAR